BEGIN:VCALENDAR
VERSION:2.0
PRODID:-//Wisdom Word - ECPv6.15.19//NONSGML v1.0//EN
CALSCALE:GREGORIAN
METHOD:PUBLISH
X-WR-CALNAME:Wisdom Word
X-ORIGINAL-URL:https://wisdomword.com
X-WR-CALDESC:Events for Wisdom Word
REFRESH-INTERVAL;VALUE=DURATION:PT1H
X-Robots-Tag:noindex
X-PUBLISHED-TTL:PT1H
BEGIN:VTIMEZONE
TZID:America/Los_Angeles
BEGIN:DAYLIGHT
TZOFFSETFROM:-0800
TZOFFSETTO:-0700
TZNAME:PDT
DTSTART:20200308T100000
END:DAYLIGHT
BEGIN:STANDARD
TZOFFSETFROM:-0700
TZOFFSETTO:-0800
TZNAME:PST
DTSTART:20201101T090000
END:STANDARD
BEGIN:DAYLIGHT
TZOFFSETFROM:-0800
TZOFFSETTO:-0700
TZNAME:PDT
DTSTART:20210314T100000
END:DAYLIGHT
BEGIN:STANDARD
TZOFFSETFROM:-0700
TZOFFSETTO:-0800
TZNAME:PST
DTSTART:20211107T090000
END:STANDARD
BEGIN:DAYLIGHT
TZOFFSETFROM:-0800
TZOFFSETTO:-0700
TZNAME:PDT
DTSTART:20220313T100000
END:DAYLIGHT
BEGIN:STANDARD
TZOFFSETFROM:-0700
TZOFFSETTO:-0800
TZNAME:PST
DTSTART:20221106T090000
END:STANDARD
BEGIN:DAYLIGHT
TZOFFSETFROM:-0800
TZOFFSETTO:-0700
TZNAME:PDT
DTSTART:20230312T100000
END:DAYLIGHT
BEGIN:STANDARD
TZOFFSETFROM:-0700
TZOFFSETTO:-0800
TZNAME:PST
DTSTART:20231105T090000
END:STANDARD
BEGIN:DAYLIGHT
TZOFFSETFROM:-0800
TZOFFSETTO:-0700
TZNAME:PDT
DTSTART:20240310T100000
END:DAYLIGHT
BEGIN:STANDARD
TZOFFSETFROM:-0700
TZOFFSETTO:-0800
TZNAME:PST
DTSTART:20241103T090000
END:STANDARD
END:VTIMEZONE
BEGIN:VEVENT
DTSTART;TZID=America/Los_Angeles:20210920T173000
DTEND;TZID=America/Los_Angeles:20210920T183000
DTSTAMP:20260421T093458
CREATED:20210114T011610Z
LAST-MODIFIED:20210128T053954Z
UID:11586-1632159000-1632162600@wisdomword.com
SUMMARY:Full Moon Teleconference
DESCRIPTION:For more information & to register for the full moon call please see: \nhttps://wisdomword.com/product-category/teleconferences/full_moon_teleconferences/
URL:https://wisdomword.com/event/full-moon-teleconference-9/
CATEGORIES:Full Moon Teleconferences
ATTACH;FMTTYPE=image/jpeg:https://wisdomword.com/wp-content/uploads/2017/01/Full_Moon-800-e1744669422276.jpg
END:VEVENT
BEGIN:VEVENT
DTSTART;TZID=America/Los_Angeles:20211020T173000
DTEND;TZID=America/Los_Angeles:20211020T183000
DTSTAMP:20260421T093458
CREATED:20210114T011724Z
LAST-MODIFIED:20210128T053841Z
UID:11587-1634751000-1634754600@wisdomword.com
SUMMARY:Full Moon Teleconference
DESCRIPTION:For more information & to register for the full moon call please see: \nhttps://wisdomword.com/product-category/teleconferences/full_moon_teleconferences/
URL:https://wisdomword.com/event/full-moon-teleconference-10/
CATEGORIES:Full Moon Teleconferences
ATTACH;FMTTYPE=image/jpeg:https://wisdomword.com/wp-content/uploads/2017/01/Full_Moon-800-e1744669422276.jpg
END:VEVENT
BEGIN:VEVENT
DTSTART;TZID=America/Los_Angeles:20211110T173000
DTEND;TZID=America/Los_Angeles:20211110T183000
DTSTAMP:20260421T093458
CREATED:20210127T023611Z
LAST-MODIFIED:20211106T203308Z
UID:12298-1636565400-1636569000@wisdomword.com
SUMMARY:Free Wisdom Wednesday POSTPONED
DESCRIPTION:This Wisdom Wednesdays Free Teleconference is postponed\, stay tuned for when Dr. Sonja Elison\, Astrologer\, will be speaking in 2022! \n 
URL:https://wisdomword.com/event/wisdom-wednesday-teleconference-2021-04-07-2021-11-10/
CATEGORIES:Teleconferences
ATTACH;FMTTYPE=image/jpeg:https://wisdomword.com/wp-content/uploads/2016/02/lotus-1-2.jpg
END:VEVENT
BEGIN:VEVENT
DTSTART;TZID=America/Los_Angeles:20211118T173000
DTEND;TZID=America/Los_Angeles:20211118T183000
DTSTAMP:20260421T093458
CREATED:20210114T011835Z
LAST-MODIFIED:20210128T053743Z
UID:11588-1637256600-1637260200@wisdomword.com
SUMMARY:Full Moon Teleconference
DESCRIPTION:For more information & to register for the full moon call please see: \nhttps://wisdomword.com/product-category/teleconferences/full_moon_teleconferences/
URL:https://wisdomword.com/event/full-moon-teleconference-11/
CATEGORIES:Full Moon Teleconferences
ATTACH;FMTTYPE=image/jpeg:https://wisdomword.com/wp-content/uploads/2017/01/Full_Moon-800-e1744669422276.jpg
END:VEVENT
BEGIN:VEVENT
DTSTART;TZID=America/Los_Angeles:20211219T173000
DTEND;TZID=America/Los_Angeles:20211219T183000
DTSTAMP:20260421T093458
CREATED:20210114T011943Z
LAST-MODIFIED:20210128T053631Z
UID:11590-1639935000-1639938600@wisdomword.com
SUMMARY:Full Moon Teleconference
DESCRIPTION:For more information & to register for the full moon call please see: \nhttps://wisdomword.com/product-category/teleconferences/full_moon_teleconferences/
URL:https://wisdomword.com/event/full-moon-teleconference-12/
CATEGORIES:Full Moon Teleconferences
ATTACH;FMTTYPE=image/jpeg:https://wisdomword.com/wp-content/uploads/2017/01/Full_Moon-800-e1744669422276.jpg
END:VEVENT
BEGIN:VEVENT
DTSTART;TZID=America/Los_Angeles:20211221T163000
DTEND;TZID=America/Los_Angeles:20211221T173000
DTSTAMP:20260421T093458
CREATED:20211126T012827Z
LAST-MODIFIED:20211126T012828Z
UID:13890-1640104200-1640107800@wisdomword.com
SUMMARY:Winter Solstice 2021 – Circle of Light
DESCRIPTION:Join Melissa and the circle of wisdom in anchoring the light on the darkest night. \nRegister to receive the call-in number at https://wisdomword.com/product/winter-solstice-2020-circle-of-light-12-21-2020-430-pm-pacific/
URL:https://wisdomword.com/event/winter-solstice-2021-circle-of-light/
CATEGORIES:Teleconferences
ATTACH;FMTTYPE=image/jpeg:https://wisdomword.com/wp-content/uploads/2020/12/candles-209157_1920.jpg
END:VEVENT
BEGIN:VEVENT
DTSTART;TZID=America/Los_Angeles:20220105T173000
DTEND;TZID=America/Los_Angeles:20220105T183000
DTSTAMP:20260421T093458
CREATED:20211225T004540Z
LAST-MODIFIED:20211227T233659Z
UID:13961-1641403800-1641407400@wisdomword.com
SUMMARY:2022 New Year Channeling Teleconference
DESCRIPTION:Join our circle of light for the January 2022 New Year Channeling teleconference. This is the time when our chakras are opening\, connecting to open portals\, and downloading the higher frequencies. The vibrational frequency of 2022 is Guidance. Trusting in Spirit & your guidance is so important in these times. As we integrate the higher frequencies coming through the planet\, we acknowledge our connection to Spirit\, and ground our spiritual natures/higher selves more fully in the material plane. \nEach year\, Melissa channels the Archangels\, ascended masters\, guides and guardians\, bringing in an overview and theme for the New Year. Strengthening Inner Guidance is the theme for 2022. This channeling will be featuring guidance directly from Archangel Raziel. Raziel is the guardian of the rainbow ray and the guardian angel of 2022. \nThe teleconference starts at 5:30 Pacific/8:30 Eastern. \nMore info & registration link coming soon!
URL:https://wisdomword.com/event/2022-new-year-channeling-teleconference/
CATEGORIES:Teleconferences
END:VEVENT
BEGIN:VEVENT
DTSTART;TZID=America/Los_Angeles:20220109T073000
DTEND;TZID=America/Los_Angeles:20220109T083000
DTSTAMP:20260421T093458
CREATED:20211228T225821Z
LAST-MODIFIED:20211228T225822Z
UID:13973-1641713400-1641717000@wisdomword.com
SUMMARY:Empowerment Teaching Series: Trusting & Strengthening Your Connection With Guidance
DESCRIPTION:WisdomWord is offering a teleconference series of Empowerment Teachings to nurture\, nourish and support you on your personal journey to enlightenment.    \nTrusting and Strengthening Your Connection with Guidance  \nThe series runs from January 9 through March 13\, 2022 for 10 consecutive Sundays. This series is designed to help you listen to and trust your inner voice. During this 10-week series Melissa will provide guidance\, share exercises\, and teach tried and true ways for you to open to and trust your inner guidance. \nFor more information and to register please see: https://wisdomword.com/product/empowerment-trusting-strengthening-connection/
URL:https://wisdomword.com/event/empowerment-teaching-series-trusting-strengthening-your-connection-with-guidance/2022-01-09/
CATEGORIES:Sunday Call Series,Teleconferences
ATTACH;FMTTYPE=image/jpeg:https://wisdomword.com/wp-content/uploads/2021/12/sunset-3325080_1920.jpg
END:VEVENT
BEGIN:VEVENT
DTSTART;TZID=America/Los_Angeles:20220117T173000
DTEND;TZID=America/Los_Angeles:20220117T183000
DTSTAMP:20260421T093458
CREATED:20211113T023231Z
LAST-MODIFIED:20211113T023431Z
UID:13652-1642440600-1642444200@wisdomword.com
SUMMARY:Full Moon Circle Teleconference
DESCRIPTION:For more information & to register for the full moon circle call please see: \nhttps://wisdomword.com/product-category/teleconferences/full_moon_teleconferences/
URL:https://wisdomword.com/event/full-moon-circle-teleconference/2022-01-17/
CATEGORIES:Full Moon Teleconferences
ATTACH;FMTTYPE=image/jpeg:https://wisdomword.com/wp-content/uploads/2017/01/Full_Moon-800-e1744669422276.jpg
END:VEVENT
BEGIN:VEVENT
DTSTART;TZID=America/Los_Angeles:20220302T173000
DTEND;TZID=America/Los_Angeles:20220302T183000
DTSTAMP:20260421T093458
CREATED:20220219T203442Z
LAST-MODIFIED:20220219T203442Z
UID:14158-1646242200-1646245800@wisdomword.com
SUMMARY:Free Wisdom Wednesday Teleconference with Melissa & Sonja Elison
DESCRIPTION:Join Melissa and Dr. Sonja Elison for this Wisdom Wednesdays Free Teleconference! They will speak on Magic\, Mystery\, Mysticism\, in the Miraculous Moons of April. \nMelissa Halsey\, Channel\, and Dr. Sonja Elison\, Astrologer\, speak on the changes ahead as noted by April’s energy from both the channeled and astrological perspectives. \nCalls will begin at 5:30 pm Pacific/8:30 pm Eastern. You will receive call-in information after you register. \nPlease register here: https://wisdomword.com/product/wisdom-teleconferences/
URL:https://wisdomword.com/event/free-wisdom-wednesday-teleconference-with-melissa-sonja-elison/
CATEGORIES:Teleconferences
ATTACH;FMTTYPE=image/jpeg:https://wisdomword.com/wp-content/uploads/2016/02/lotus-1-2.jpg
END:VEVENT
BEGIN:VEVENT
DTSTART;TZID=America/Los_Angeles:20220327T083000
DTEND;TZID=America/Los_Angeles:20220327T090000
DTSTAMP:20260421T093458
CREATED:20220325T174507Z
LAST-MODIFIED:20220618T171048Z
UID:14345-1648369800-1648371600@wisdomword.com
SUMMARY:Masters Class Alumni Meditation
DESCRIPTION:This is a meditation anchored by Masters Class Alumni. All are invited to meditate at home during this time. \nWednesdays at 7:00am Pacific / 10am Eastern\nWednesdays at 5:30pm Pacific / 8:30 Eastern (except when we have Masters Class Alumni Meet Ups)\nSundays at 8:30am Pacific / 11:30am Eastern
URL:https://wisdomword.com/event/masters-class-alumni-meditation-3/2022-03-27/
END:VEVENT
BEGIN:VEVENT
DTSTART;TZID=America/Los_Angeles:20220330T070000
DTEND;TZID=America/Los_Angeles:20220330T073000
DTSTAMP:20260421T093458
CREATED:20220325T174024Z
LAST-MODIFIED:20220618T172536Z
UID:14268-1648623600-1648625400@wisdomword.com
SUMMARY:Masters Class Alumni Meditation
DESCRIPTION:This is a meditation anchored by Masters Class Alumni. All are invited to meditate at home during this time. \nWednesdays at 7:00am Pacific / 10am Eastern\nWednesdays at 5:30pm Pacific / 8:30 Eastern (except when we have Masters Class Alumni Meet Ups)\nSundays at 8:30am Pacific / 11:30am Eastern
URL:https://wisdomword.com/event/masters-class-alumni-meditation/2022-03-30/
END:VEVENT
BEGIN:VEVENT
DTSTART;TZID=America/Los_Angeles:20220330T173000
DTEND;TZID=America/Los_Angeles:20220330T180000
DTSTAMP:20260421T093458
CREATED:20220325T174224Z
LAST-MODIFIED:20220618T172628Z
UID:14309-1648661400-1648663200@wisdomword.com
SUMMARY:Masters Class Alumni Meditation
DESCRIPTION:This is a meditation anchored by Masters Class Alumni. All are invited to meditate at home during this time. \nWednesdays at 7:00am Pacific / 10am Eastern\nWednesdays at 5:30pm Pacific / 8:30 Eastern (except when we have Masters Class Alumni Meet Ups)\nSundays at 8:30am Pacific / 11:30am Eastern
URL:https://wisdomword.com/event/masters-class-alumni-meditation-2/2022-03-30/
END:VEVENT
BEGIN:VEVENT
DTSTART;TZID=America/Los_Angeles:20220410T073000
DTEND;TZID=America/Los_Angeles:20220410T083000
DTSTAMP:20260421T093458
CREATED:20220410T225644Z
LAST-MODIFIED:20220410T225645Z
UID:14433-1649575800-1649579400@wisdomword.com
SUMMARY:Empowerment Teaching Series: Inner Peace = World Peace
DESCRIPTION:WisdomWord is offering a teleconference series of Empowerment Teachings to nurture\, nourish and support you on your personal journey to enlightenment.    \nInner Peace = World Peace\n \nThe series runs from April 10 through June 12\, 2022 for ten consecutive Sundays. This series is designed to help you listen to and trust your inner voice. During this 10-week series Melissa will provide guidance\, share exercises\, and teach tried and true ways for you to open to and trust your inner guidance. \nFor more information and to register please see: https://wisdomword.com/product/empowerment-trusting-strengthening-connection/
URL:https://wisdomword.com/event/empowerment-teaching-series-inner-peace-world-peace/2022-04-10/
CATEGORIES:Sunday Call Series,Teleconferences
ATTACH;FMTTYPE=image/jpeg:https://wisdomword.com/wp-content/uploads/2017/04/mother-earth.jpg
END:VEVENT
BEGIN:VEVENT
DTSTART;TZID=America/Los_Angeles:20220420T173000
DTEND;TZID=America/Los_Angeles:20220420T183000
DTSTAMP:20260421T093458
CREATED:20220325T173333Z
LAST-MODIFIED:20220325T173333Z
UID:14267-1650475800-1650479400@wisdomword.com
SUMMARY:Masters Class Alumni Meet Up
DESCRIPTION:Masters Class Alumni please join us in a meet up on Zoom! Zoom link will be sent prior to the meet up.
URL:https://wisdomword.com/event/masters-class-alumni-meet-up/
END:VEVENT
BEGIN:VEVENT
DTSTART;TZID=America/Los_Angeles:20220421T080000
DTEND;TZID=America/Los_Angeles:20220421T170000
DTSTAMP:20260421T093458
CREATED:20220421T225407Z
LAST-MODIFIED:20220421T225407Z
UID:14486-1650528000-1650560400@wisdomword.com
SUMMARY:Sunday May 15th\, 2022 Full Moon Lunar Eclipse Teleconference
DESCRIPTION:Live Teleconference Sunday May 15th Full Moon Lunar Eclipse Teleconference. May’s Full Moon known as the flower moon is also a Lunar eclipse this year. \nMay’s Full Moon is bringing potent energy to our emotional bodies\, romantic lives\, and need for introspection. It is amplified by the fact that this lunation is more than a Full Moon — it is a Lunar Eclipse. The Sun is in Tarsus and the moon is in Scorpio. This moon asks us to dig deep\, look at what security means to us yet at the same time find the balance between hanging on and letting go.
URL:https://wisdomword.com/event/sunday-may-15th-2022-full-moon-lunar-eclipse-teleconference/
END:VEVENT
BEGIN:VEVENT
DTSTART;TZID=America/Los_Angeles:20220430T173000
DTEND;TZID=America/Los_Angeles:20220430T183000
DTSTAMP:20260421T093458
CREATED:20220423T200253Z
LAST-MODIFIED:20220423T200254Z
UID:14510-1651339800-1651343400@wisdomword.com
SUMMARY:New Moon New Book Launch Party
DESCRIPTION:Celebration time! Join Melissa for a launch party on Saturday April 30th at 5:30pm Pacific / 8:30pm Eastern\, on Zoom. A Year of Spiritual Guidance: Activating Growth\, Healing\, Enlightenment & Awakening is available now! \nMelissa will channel messages from Quan Yin and the Masters\, read selections from the book and discuss their significance. The new moon is in Taurus and it is a solar eclipse on our launch party so the energy will be flowing! \nPlease RSVP here
URL:https://wisdomword.com/event/new-moon-new-book-launch-party/
CATEGORIES:Teleconferences
ATTACH;FMTTYPE=image/jpeg:https://wisdomword.com/wp-content/uploads/2020/11/Year-of-SG-Front-Cover_7-x-10_150.jpg
END:VEVENT
BEGIN:VEVENT
DTSTART;TZID=America/Los_Angeles:20220504T080000
DTEND;TZID=America/Los_Angeles:20220504T170000
DTSTAMP:20260421T093458
CREATED:20220504T184505Z
LAST-MODIFIED:20220504T184632Z
UID:14554-1651651200-1651683600@wisdomword.com
SUMMARY:Manifesting Your Divine Guidance in the Material world
DESCRIPTION:As we continue to develop and strengthen our connections to divine guidance individuals often ask; “How do I manifest my guidance in my daily world”?  We often hear “everything is perfect” “trust” or we receive intuition or visions of what to do\, we are inspired but often fail to see how it can happen in 3D or become overwhelmed with the ‘doing’ aspect of manifesting. \nDuring this afternoon we will receive guidance on how  identify the internal obstacles -whether they be fears or old belief systems – and develop tools and practices to strengthen our ability to manifest our soul purpose and create more joy in our lives. \n*this is a great companion class to our 10 week series Inner Peace = World peace
URL:https://wisdomword.com/event/manifesting-your-divine-guidance-in-the-material-world/
CATEGORIES:Workshops
END:VEVENT
BEGIN:VEVENT
DTSTART;TZID=America/Los_Angeles:20220522T123000
DTEND;TZID=America/Los_Angeles:20220522T163000
DTSTAMP:20260421T093458
CREATED:20220504T191212Z
LAST-MODIFIED:20220513T220403Z
UID:14557-1653222600-1653237000@wisdomword.com
SUMMARY:Manifesting Divine Guidance in the Material World
DESCRIPTION:An Afternoon Workshop in Sunny Sonoma\, Ca \nSunday\, May 22nd 2022 \nAs we continue to develop and strengthen our connections to divine guidance individuals often ask; “How do I manifest my guidance in my daily world”?  We often hear “everything is perfect” “trust” or we receive intuition or visions of what to do\, we are inspired but often fail to see how it can happen in 3D or become overwhelmed with the ‘doing’ aspect of manifesting. \nDuring this afternoon we will receive guidance on how to identify the internal obstacles – whether they be fears or old belief systems – and develop tools and practices to strengthen our ability to manifest our soul purpose and create more joy in our lives. \n*this is a great companion class to our 10 week series Inner Peace = World peace
URL:https://wisdomword.com/event/manifesting-divine-guidance-in-the-material-world/
CATEGORIES:Workshops
ATTACH;FMTTYPE=image/jpeg:https://wisdomword.com/wp-content/uploads/2022/05/monarch-butterfly-on-yellow-flower.jpg
END:VEVENT
BEGIN:VEVENT
DTSTART;TZID=America/Los_Angeles:20220525T173000
DTEND;TZID=America/Los_Angeles:20220525T190000
DTSTAMP:20260421T093458
CREATED:20220423T001234Z
LAST-MODIFIED:20220513T215320Z
UID:14493-1653499800-1653505200@wisdomword.com
SUMMARY:Masters Alumni WisdomCircles Meeting
DESCRIPTION:WisdomCircles For Masters Circle/Wisdom Teachings Alumni 2022 \nA meeting place for master students of Melissa Halsey\, coming together to continue to study\, meditate\, and build community together in 2022.  Full Moon channelings\, monthly Zoom discussion and teachings\, group meditations and more. \nDetails & registration: https://wisdomword.com/product/masters-alumni-wisdom-circle/
URL:https://wisdomword.com/event/wisdomcircles-meeting/2022-05-25/
CATEGORIES:Workshops
ATTACH;FMTTYPE=image/jpeg:https://wisdomword.com/wp-content/uploads/2021/12/angel-chakra.jpg
END:VEVENT
BEGIN:VEVENT
DTSTART;TZID=America/Los_Angeles:20220621T173000
DTEND;TZID=America/Los_Angeles:20220621T180000
DTSTAMP:20260421T093458
CREATED:20220617T003739Z
LAST-MODIFIED:20220617T003741Z
UID:14702-1655832600-1655834400@wisdomword.com
SUMMARY:Summer Solstice Teleconference
DESCRIPTION:Join Melissa & Astrologer Sonja Elison for a Summer Solstice teleconference at 5:30pm Pacific/8:30 Eastern on the solstice\, June 21\, 2022. We will do a Solstice Chakra Attunement\, Chanting and prayers. Sonja will give information on the astrological meaning of this year’s solstice chart. \nRegister and receive your teleconference pin code and number here: https://wisdomword.com/product/solstice_teleconference/
URL:https://wisdomword.com/event/summer-solstice-teleconference/
CATEGORIES:Teleconferences
ATTACH;FMTTYPE=image/jpeg:https://wisdomword.com/wp-content/uploads/2016/04/stonehenge-solstice2.jpg
END:VEVENT
BEGIN:VEVENT
DTSTART;TZID=America/Los_Angeles:20220626T073000
DTEND;TZID=America/Los_Angeles:20220626T083000
DTSTAMP:20260421T093458
CREATED:20220616T235624Z
LAST-MODIFIED:20220616T235625Z
UID:14691-1656228600-1656232200@wisdomword.com
SUMMARY:Sunday Empowerment Series: Purifying Body\, Speech & Mind to Maintain Inner Peace
DESCRIPTION:This 7-week Empowerment Teaching Sunday Series is designed to ground and center you in peace and harmony to help you maintain your equanimity.  Individuals who maintain inner peace are beacons of calm and light for their homes\, workplaces\, communities and our world. \nSundays from June 26th through August 7th\, 2022 at 7:30am Pacific. \nMore info and registration here: https://wisdomword.com/product/connection-with-guidance/
URL:https://wisdomword.com/event/sunday-empowerment-series-purifying-body-speech-mind-to-maintain-inner-peace/2022-06-26/
CATEGORIES:Sunday Call Series
ATTACH;FMTTYPE=image/jpeg:https://wisdomword.com/wp-content/uploads/2022/05/Rain-bow-abundance-e1651691507295.jpg
END:VEVENT
BEGIN:VEVENT
DTSTART;VALUE=DATE:20220818
DTEND;VALUE=DATE:20220829
DTSTAMP:20260421T093458
CREATED:20220804T234106Z
LAST-MODIFIED:20220804T234106Z
UID:14836-1660780800-1661731199@wisdomword.com
SUMMARY:Melissa on Retreat
DESCRIPTION:Melissa will be on a retreat from August 18th to 28th and will be unavailable for individual sessions. \nHer free chakra attunements will resume on Monday\, September 5th.
URL:https://wisdomword.com/event/melissa-on-retreat/
END:VEVENT
BEGIN:VEVENT
DTSTART;TZID=America/Los_Angeles:20220918T073000
DTEND;TZID=America/Los_Angeles:20220918T083000
DTSTAMP:20260421T093458
CREATED:20220831T202058Z
LAST-MODIFIED:20220831T202100Z
UID:14870-1663486200-1663489800@wisdomword.com
SUMMARY:Sunday Empowerment Teaching Series: Embracing the Divine Feminine
DESCRIPTION:This 10-week Empowerment Teaching Sunday Series is designed to ground and center you in peace and harmony to help you connect more fully to your Divine Feminine Flow.  With so much energy pouring into the planet we are needing to become more Yin\, to open to receive and empower our intuition. Individuals who create and maintain practices to nurture the seeds of pure light and the Divine Feminine within bring more healing compassion into their lives and their worlds. \nSundays from September 18th through November 20th\, 2022 at 7:30am Pacific / 10:30am Eastern. \nMore info and registration here: https://wisdomword.com/product/embrace-divine-feminine/
URL:https://wisdomword.com/event/sunday-empowerment-teaching-series-embracing-the-divine-feminine/2022-09-18/
CATEGORIES:Sunday Call Series
ATTACH;FMTTYPE=image/jpeg:https://wisdomword.com/wp-content/uploads/2019/05/QuanYinandyellowrose.jpg
END:VEVENT
BEGIN:VEVENT
DTSTART;TZID=America/Los_Angeles:20221204T120000
DTEND;TZID=America/Los_Angeles:20221204T163000
DTSTAMP:20260421T093458
CREATED:20221116T222245Z
LAST-MODIFIED:20221116T222245Z
UID:15000-1670155200-1670171400@wisdomword.com
SUMMARY:Afternoon Workshop/Power Circle in Sonoma\, CA
DESCRIPTION:Join us for the Sonoma Afternoon Power Circle on Sunday 12/04/22 from noon to 4:30pm. This circle is designed to activate the Alchemist within – lift your Spirit & raise your consciousness during this powerful afternoon. The power is within us to change our selves and to change our worlds. Step into love and leave fear behind. \nMore information & registration here: https://wisdomword.com/product/sonoma-workshop-power-circle/
URL:https://wisdomword.com/event/afternoon-workshop-power-circle-in-sonoma-ca/
CATEGORIES:Workshops
ATTACH;FMTTYPE=image/jpeg:https://wisdomword.com/wp-content/uploads/2014/05/heart-shrub.jpg
END:VEVENT
BEGIN:VEVENT
DTSTART;TZID=America/Los_Angeles:20221221T173000
DTEND;TZID=America/Los_Angeles:20221221T190000
DTSTAMP:20260421T093458
CREATED:20220423T001234Z
LAST-MODIFIED:20221204T013058Z
UID:14500-1671643800-1671649200@wisdomword.com
SUMMARY:Masters Alumni WisdomCircles Meeting
DESCRIPTION:WisdomCircles For Masters Circle/Wisdom Teachings Alumni 2022 \nA meeting place for master students of Melissa Halsey\, coming together to continue to study\, meditate\, and build community together in 2022.  Full Moon channelings\, monthly Zoom discussion and teachings\, group meditations and more. \nDetails & registration: https://wisdomword.com/product/masters-alumni-wisdom-circle/
URL:https://wisdomword.com/event/wisdomcircles-meeting-2022-12-14/
CATEGORIES:Workshops
ATTACH;FMTTYPE=image/jpeg:https://wisdomword.com/wp-content/uploads/2021/12/angel-chakra.jpg
END:VEVENT
BEGIN:VEVENT
DTSTART;TZID=America/Los_Angeles:20230102T083000
DTEND;TZID=America/Los_Angeles:20230102T090000
DTSTAMP:20260421T093458
CREATED:20230111T033614Z
LAST-MODIFIED:20230804T165054Z
UID:15151-1672648200-1672650000@wisdomword.com
SUMMARY:Free Chakra Call at 8:30am Pacific
DESCRIPTION:Join us for a chakra exercise and teachings to help maintaining equanimity during troubled times. \nThe call starts at 8:30am Pacific / 11:30am Eastern on Mondays\, Wednesdays\, and Saturdays\, and lasts approximately 20 minutes. \nThis is a free teleconference\, the call in number and code is:\n(667) 770-1560 \nCode is 532085
URL:https://wisdomword.com/event/free-chakra-call-at-830am-pacific-2/2023-01-02/
ATTACH;FMTTYPE=image/jpeg:https://wisdomword.com/wp-content/uploads/2016/11/soulstar_270.jpg
END:VEVENT
BEGIN:VEVENT
DTSTART;TZID=America/Los_Angeles:20230105T170000
DTEND;TZID=America/Los_Angeles:20230105T183000
DTSTAMP:20260421T093458
CREATED:20221204T012908Z
LAST-MODIFIED:20221219T205852Z
UID:15032-1672938000-1672943400@wisdomword.com
SUMMARY:Full Moon Circle & 2023 New Year Channeling Teleconference
DESCRIPTION:For more information & to register for this special 90-minute 2023 New Year live channeling\, intentions\, invocation and full moon circle live channeling call please see: \nhttps://wisdomword.com/product-category/teleconferences/full_moon_teleconferences/
URL:https://wisdomword.com/event/full-moon-circle-channeling-teleconference/
CATEGORIES:Full Moon Teleconferences
ATTACH;FMTTYPE=image/jpeg:https://wisdomword.com/wp-content/uploads/2017/01/Full_Moon-800-e1744669422276.jpg
END:VEVENT
BEGIN:VEVENT
DTSTART;TZID=America/Los_Angeles:20230115T073000
DTEND;TZID=America/Los_Angeles:20230115T083000
DTSTAMP:20260421T093458
CREATED:20230111T033144Z
LAST-MODIFIED:20230111T033146Z
UID:15141-1673767800-1673771400@wisdomword.com
SUMMARY:Empowerment Teaching Series: Self Love = Breaking Bad Habits
DESCRIPTION:10 week Empowerment Teaching Series: 1/15/23 thru 03/19/23: SELF LOVE= BREAKING BAD HABITS\, SELF CRITICISM AND THE CHRONIC CYCLE OF STRESS \nMore information & registration here: https://wisdomword.com/portfolio-item/empowerment-teaching/
URL:https://wisdomword.com/event/empowerment-teaching-series-self-love-breaking-bad-habits/2023-01-15/
CATEGORIES:Sunday Call Series
ATTACH;FMTTYPE=image/gif:https://wisdomword.com/wp-content/uploads/2020/11/self-love-heart800x600.gif
END:VEVENT
BEGIN:VEVENT
DTSTART;TZID=America/Los_Angeles:20230205T173000
DTEND;TZID=America/Los_Angeles:20230205T183000
DTSTAMP:20260421T093458
CREATED:20221204T012908Z
LAST-MODIFIED:20221219T205139Z
UID:15033-1675618200-1675621800@wisdomword.com
SUMMARY:Full Moon Circle Channeling Teleconference
DESCRIPTION:For more information & to register for the full moon circle live channeling call please see: \nhttps://wisdomword.com/product-category/teleconferences/full_moon_teleconferences/
URL:https://wisdomword.com/event/full-moon-circle-channeling-teleconference-2023-02-05/2023-02-05/
CATEGORIES:Full Moon Teleconferences
ATTACH;FMTTYPE=image/jpeg:https://wisdomword.com/wp-content/uploads/2017/01/Full_Moon-800-e1744669422276.jpg
END:VEVENT
END:VCALENDAR