BEGIN:VCALENDAR
VERSION:2.0
PRODID:-//Wisdom Word - ECPv6.15.19//NONSGML v1.0//EN
CALSCALE:GREGORIAN
METHOD:PUBLISH
X-WR-CALNAME:Wisdom Word
X-ORIGINAL-URL:https://wisdomword.com
X-WR-CALDESC:Events for Wisdom Word
REFRESH-INTERVAL;VALUE=DURATION:PT1H
X-Robots-Tag:noindex
X-PUBLISHED-TTL:PT1H
BEGIN:VTIMEZONE
TZID:America/Los_Angeles
BEGIN:DAYLIGHT
TZOFFSETFROM:-0800
TZOFFSETTO:-0700
TZNAME:PDT
DTSTART:20200308T100000
END:DAYLIGHT
BEGIN:STANDARD
TZOFFSETFROM:-0700
TZOFFSETTO:-0800
TZNAME:PST
DTSTART:20201101T090000
END:STANDARD
BEGIN:DAYLIGHT
TZOFFSETFROM:-0800
TZOFFSETTO:-0700
TZNAME:PDT
DTSTART:20210314T100000
END:DAYLIGHT
BEGIN:STANDARD
TZOFFSETFROM:-0700
TZOFFSETTO:-0800
TZNAME:PST
DTSTART:20211107T090000
END:STANDARD
BEGIN:DAYLIGHT
TZOFFSETFROM:-0800
TZOFFSETTO:-0700
TZNAME:PDT
DTSTART:20220313T100000
END:DAYLIGHT
BEGIN:STANDARD
TZOFFSETFROM:-0700
TZOFFSETTO:-0800
TZNAME:PST
DTSTART:20221106T090000
END:STANDARD
END:VTIMEZONE
BEGIN:VEVENT
DTSTART;TZID=America/Los_Angeles:20210107T123000
DTEND;TZID=America/Los_Angeles:20210107T133000
DTSTAMP:20260423T064238
CREATED:20210117T191712Z
LAST-MODIFIED:20210128T043733Z
UID:11701-1610022600-1610026200@wisdomword.com
SUMMARY:Conscious Connected Community FB Live Talk
DESCRIPTION:Conscious Connected Community (CCC) live talks with Michelle & Melissa revolving around daily practices that support a happier\, healthier\, more peaceful you! \nEvery Thursday on CCC’s Facebook page: \nhttps://www.facebook.com/groups/consciousconnectedcommunity
URL:https://wisdomword.com/event/conscious-connected-community-fb-live-talk/2021-01-07/
LOCATION:Facebook
ATTACH;FMTTYPE=image/jpeg:https://wisdomword.com/wp-content/uploads/2016/03/Daisys-298.jpg
END:VEVENT
END:VCALENDAR