BEGIN:VCALENDAR
VERSION:2.0
PRODID:-//Wisdom Word - ECPv6.15.19//NONSGML v1.0//EN
CALSCALE:GREGORIAN
METHOD:PUBLISH
X-ORIGINAL-URL:https://wisdomword.com
X-WR-CALDESC:Events for Wisdom Word
REFRESH-INTERVAL;VALUE=DURATION:PT1H
X-Robots-Tag:noindex
X-PUBLISHED-TTL:PT1H
BEGIN:VTIMEZONE
TZID:America/Los_Angeles
BEGIN:DAYLIGHT
TZOFFSETFROM:-0800
TZOFFSETTO:-0700
TZNAME:PDT
DTSTART:20200308T100000
END:DAYLIGHT
BEGIN:STANDARD
TZOFFSETFROM:-0700
TZOFFSETTO:-0800
TZNAME:PST
DTSTART:20201101T090000
END:STANDARD
BEGIN:DAYLIGHT
TZOFFSETFROM:-0800
TZOFFSETTO:-0700
TZNAME:PDT
DTSTART:20210314T100000
END:DAYLIGHT
BEGIN:STANDARD
TZOFFSETFROM:-0700
TZOFFSETTO:-0800
TZNAME:PST
DTSTART:20211107T090000
END:STANDARD
BEGIN:DAYLIGHT
TZOFFSETFROM:-0800
TZOFFSETTO:-0700
TZNAME:PDT
DTSTART:20220313T100000
END:DAYLIGHT
BEGIN:STANDARD
TZOFFSETFROM:-0700
TZOFFSETTO:-0800
TZNAME:PST
DTSTART:20221106T090000
END:STANDARD
END:VTIMEZONE
BEGIN:VEVENT
DTSTART;TZID=America/Los_Angeles:20210306T070000
DTEND;TZID=America/Los_Angeles:20210306T080000
DTSTAMP:20260423T065347
CREATED:20210120T031437Z
LAST-MODIFIED:20211104T194406Z
UID:12270-1615014000-1615017600@wisdomword.com
SUMMARY:Masters Class Mentoring Call
DESCRIPTION:This is a group mentoring call for the Masters Class students. Not mandatory\, this is an informal mentoring chat and time for questions and sharing. \nThis teleconference will be held on the first Saturday of every month. \nThe time will alternate between 10am Pacific / 1pm Eastern on even months (starting in February) and 7am Pacific / 10am Eastern on odd months (starting in March).
URL:https://wisdomword.com/event/masters-class-mentoring-call-2/2021-03-06/
END:VEVENT
END:VCALENDAR